BEGIN:VCALENDAR
VERSION:2.0
PRODID:-//РКФ - ECPv6.15.20//NONSGML v1.0//EN
CALSCALE:GREGORIAN
METHOD:PUBLISH
X-ORIGINAL-URL:https://rkf.org.ru
X-WR-CALDESC:Мероприятия для РКФ
REFRESH-INTERVAL;VALUE=DURATION:PT1H
X-Robots-Tag:noindex
X-PUBLISHED-TTL:PT1H
BEGIN:VTIMEZONE
TZID:Europe/Moscow
BEGIN:STANDARD
TZOFFSETFROM:+0300
TZOFFSETTO:+0300
TZNAME:MSK
DTSTART:20190101T000000
END:STANDARD
END:VTIMEZONE
BEGIN:VEVENT
DTSTART;TZID=Europe/Moscow:20200122T120000
DTEND;TZID=Europe/Moscow:20200122T120000
DTSTAMP:20260423T185455
CREATED:20191219T095743Z
LAST-MODIFIED:20191219T095743Z
UID:37952-1579694400-1579694400@rkf.org.ru
SUMMARY:Конференция НКП Французский бульдог
DESCRIPTION:Дата: 22 января 2020 года \nВремя: 12.00 \nАдрес: г. Москва\, ул. Гостиничная д 9\, Конференц-зал (учебный класс)  \nПовестка дня: \n1. Отчет Президента НКП.\n2. Отчет Ревизионной комиссии.\n3. Прения по отчетам.\n4. Выборы Президента\, Президиума\, Ревизионной комиссии НКП.\n5. Разное. \nДополнительная информация по тел.: +7-495-421-43-71\, +7-903-732-11-24; эл.почта: Elena-jemu@rambler.ru.
URL:https://rkf.org.ru/events/konferencija-nkp-francuzskij-buldog/
CATEGORIES:Конференции Национальных клубов пород
END:VEVENT
END:VCALENDAR