BEGIN:VCALENDAR
VERSION:2.0
PRODID:-//РКФ - ECPv6.15.20//NONSGML v1.0//EN
CALSCALE:GREGORIAN
METHOD:PUBLISH
X-ORIGINAL-URL:https://rkf.org.ru
X-WR-CALDESC:Мероприятия для РКФ
REFRESH-INTERVAL;VALUE=DURATION:PT1H
X-Robots-Tag:noindex
X-PUBLISHED-TTL:PT1H
BEGIN:VTIMEZONE
TZID:Europe/Moscow
BEGIN:STANDARD
TZOFFSETFROM:+0300
TZOFFSETTO:+0300
TZNAME:MSK
DTSTART:20190101T000000
END:STANDARD
END:VTIMEZONE
BEGIN:VEVENT
DTSTART;TZID=Europe/Moscow:20200117T150000
DTEND;TZID=Europe/Moscow:20200117T150000
DTSTAMP:20260424T014810
CREATED:20191227T140751Z
LAST-MODIFIED:20191227T140751Z
UID:38224-1579273200-1579273200@rkf.org.ru
SUMMARY:Учредительная конференция по созданию НКП Majorca Mastiff (Ка-де-Бо)
DESCRIPTION:Дата: 17 января 2020 года \nВремя: 16.00 (начало регистрации в 15.00) \nАдрес: г. Москва\, ул. Гостиничная\, д. 9\, учебный класс РКФ (1 этаж) \nПовестка дня:\n1. Выборы председателя и секретаря Учредительной конференции;\n2. Утверждение регистрационного списка присутствующих;\n3. Выборы счетной комиссии;\n4. Выборы формы голосования;\n5. Об учреждении Общероссийской Общественной Организации «Национальный клуб породы Majorca Mastiff (Ка-де-Бо)»;\n6. Об утверждении Устава Общероссийской Общественной Организации «Национальный клуб породы Majorca Mastiff (Ка-де-Бо)»;\n7. Избрание руководящих органов Общероссийской Общественной Организации «Национальный клуб породы Majorca Mastiff (Ка-де-Бо)»;\n8. Избрание контрольно-ревизионных (ревизора) органов Общероссийской Общественной Организации «Национальный клуб породы Majorca Mastiff (Ка-де-Бо)»;\n9. Другие вопросы. \nДополнительная информация по тел.: +7-909-626-79-71 или по эл. почте: cadebou.zolotavina@yandex.ru.
URL:https://rkf.org.ru/events/uchreditelnaja-konferencija-po-sozdaniju-nkp-majorca-mastiff-ka-de-bo/
CATEGORIES:Конференции Национальных клубов пород
END:VEVENT
END:VCALENDAR